BEGIN:VCALENDAR
VERSION:2.0
PRODID:-//Privatschulen Dr. Kalscheuer - ECPv6.15.12.2//NONSGML v1.0//EN
CALSCALE:GREGORIAN
METHOD:PUBLISH
X-ORIGINAL-URL:https://kalscheuer.com
X-WR-CALDESC:Veranstaltungen für Privatschulen Dr. Kalscheuer
REFRESH-INTERVAL;VALUE=DURATION:PT1H
X-Robots-Tag:noindex
X-PUBLISHED-TTL:PT1H
BEGIN:VTIMEZONE
TZID:Europe/Berlin
BEGIN:DAYLIGHT
TZOFFSETFROM:+0100
TZOFFSETTO:+0200
TZNAME:CEST
DTSTART:20230326T010000
END:DAYLIGHT
BEGIN:STANDARD
TZOFFSETFROM:+0200
TZOFFSETTO:+0100
TZNAME:CET
DTSTART:20231029T010000
END:STANDARD
BEGIN:DAYLIGHT
TZOFFSETFROM:+0100
TZOFFSETTO:+0200
TZNAME:CEST
DTSTART:20240331T010000
END:DAYLIGHT
BEGIN:STANDARD
TZOFFSETFROM:+0200
TZOFFSETTO:+0100
TZNAME:CET
DTSTART:20241027T010000
END:STANDARD
BEGIN:DAYLIGHT
TZOFFSETFROM:+0100
TZOFFSETTO:+0200
TZNAME:CEST
DTSTART:20250330T010000
END:DAYLIGHT
BEGIN:STANDARD
TZOFFSETFROM:+0200
TZOFFSETTO:+0100
TZNAME:CET
DTSTART:20251026T010000
END:STANDARD
END:VTIMEZONE
BEGIN:VEVENT
DTSTART;TZID=Europe/Berlin:20240604T190000
DTEND;TZID=Europe/Berlin:20240604T210000
DTSTAMP:20260422T152352
CREATED:20240418T101258Z
LAST-MODIFIED:20240527T091242Z
UID:10000074-1717527600-1717534800@kalscheuer.com
SUMMARY:Vortrag "Diagnose LRS und Dyskalkulie! Welche Unterstützungsmöglichkeiten gibt es?"
DESCRIPTION:öffentlicher Vortrag mit praktischen Übungsbeispielen \nNähere Infos finden Sie hier.
URL:https://kalscheuer.com/termin/diagnose-lrs-und-dyskalkulie/
LOCATION:Standort Traunstein\, Weckerlestr. 17\, Traunstein\, 83278
ATTACH;FMTTYPE=image/jpeg:https://kalscheuer.com/wp-content/uploads/2024/04/lrs_header_web.jpg
END:VEVENT
BEGIN:VEVENT
DTSTART;TZID=Europe/Berlin:20240604T080000
DTEND;TZID=Europe/Berlin:20240604T170000
DTSTAMP:20260422T152352
CREATED:20240603T073625Z
LAST-MODIFIED:20240603T073625Z
UID:10000076-1717488000-1717520400@kalscheuer.com
SUMMARY:Juniorwahl
DESCRIPTION:
URL:https://kalscheuer.com/termin/juniorwahl-traunstein/
LOCATION:Standort Traunstein\, Weckerlestr. 17\, Traunstein\, 83278
END:VEVENT
BEGIN:VEVENT
DTSTART;VALUE=DATE:20240513
DTEND;VALUE=DATE:20240514
DTSTAMP:20260422T152352
CREATED:20240223T085007Z
LAST-MODIFIED:20240315T084149Z
UID:10000055-1715558400-1715644799@kalscheuer.com
SUMMARY:"sauba bleim" | Sucht- und Drogenprävention für Jugendliche
DESCRIPTION:Klasse 8a \nmit Polizeiobermeister Thomas Hipf\, Jugendbeauftragter der Polizeiinspektion Traunstein\, in Kooperation mit der Malteser Jugend
URL:https://kalscheuer.com/termin/sauba-bleim-sucht-und-drogenpraevention-fuer-jugendliche/
LOCATION:Standort Traunstein\, Weckerlestr. 17\, Traunstein\, 83278
END:VEVENT
BEGIN:VEVENT
DTSTART;VALUE=DATE:20240417
DTEND;VALUE=DATE:20240418
DTSTAMP:20260422T152352
CREATED:20240223T084549Z
LAST-MODIFIED:20240223T084549Z
UID:10000054-1713312000-1713398399@kalscheuer.com
SUMMARY:Falschgeldvortrag der Bundesbank
DESCRIPTION:Klasse 9-13
URL:https://kalscheuer.com/termin/falschgeldvortrag-der-bundesbank-2/
LOCATION:Standort Traunstein\, Weckerlestr. 17\, Traunstein\, 83278
END:VEVENT
BEGIN:VEVENT
DTSTART;TZID=Europe/Berlin:20240331T100000
DTEND;TZID=Europe/Berlin:20240331T180000
DTSTAMP:20260422T152352
CREATED:20240303T065306Z
LAST-MODIFIED:20240303T065306Z
UID:10000065-1711879200-1711908000@kalscheuer.com
SUMMARY:URBAN! Digital und Analog! | Ausstellung
DESCRIPTION:Öffentlich \nNähere Infos finden Sie hier.
URL:https://kalscheuer.com/termin/urban-digital-und-analog-ausstellung/2024-03-31/
LOCATION:Standort Traunstein\, Weckerlestr. 17\, Traunstein\, 83278
ATTACH;FMTTYPE=image/jpeg:https://kalscheuer.com/wp-content/uploads/2024/03/urban_01.jpg
END:VEVENT
BEGIN:VEVENT
DTSTART;TZID=Europe/Berlin:20240330T100000
DTEND;TZID=Europe/Berlin:20240330T180000
DTSTAMP:20260422T152352
CREATED:20240303T065306Z
LAST-MODIFIED:20240303T065306Z
UID:10000064-1711792800-1711821600@kalscheuer.com
SUMMARY:URBAN! Digital und Analog! | Ausstellung
DESCRIPTION:Öffentlich \nNähere Infos finden Sie hier.
URL:https://kalscheuer.com/termin/urban-digital-und-analog-ausstellung/2024-03-30/
LOCATION:Standort Traunstein\, Weckerlestr. 17\, Traunstein\, 83278
ATTACH;FMTTYPE=image/jpeg:https://kalscheuer.com/wp-content/uploads/2024/03/urban_01.jpg
END:VEVENT
BEGIN:VEVENT
DTSTART;TZID=Europe/Berlin:20240329T140000
DTEND;TZID=Europe/Berlin:20240329T180000
DTSTAMP:20260422T152352
CREATED:20240303T065306Z
LAST-MODIFIED:20240303T065306Z
UID:10000063-1711720800-1711735200@kalscheuer.com
SUMMARY:URBAN! Digital und Analog! | Ausstellung
DESCRIPTION:Öffentlich \nNähere Infos finden Sie hier.
URL:https://kalscheuer.com/termin/urban-digital-und-analog-ausstellung/2024-03-29/
LOCATION:Standort Traunstein\, Weckerlestr. 17\, Traunstein\, 83278
ATTACH;FMTTYPE=image/jpeg:https://kalscheuer.com/wp-content/uploads/2024/03/urban_01.jpg
END:VEVENT
BEGIN:VEVENT
DTSTART;TZID=Europe/Berlin:20240324T100000
DTEND;TZID=Europe/Berlin:20240324T180000
DTSTAMP:20260422T152352
CREATED:20240303T065306Z
LAST-MODIFIED:20240303T065306Z
UID:10000062-1711274400-1711303200@kalscheuer.com
SUMMARY:URBAN! Digital und Analog! | Ausstellung
DESCRIPTION:Öffentlich \nNähere Infos finden Sie hier.
URL:https://kalscheuer.com/termin/urban-digital-und-analog-ausstellung/2024-03-24/
LOCATION:Standort Traunstein\, Weckerlestr. 17\, Traunstein\, 83278
ATTACH;FMTTYPE=image/jpeg:https://kalscheuer.com/wp-content/uploads/2024/03/urban_01.jpg
END:VEVENT
BEGIN:VEVENT
DTSTART;TZID=Europe/Berlin:20240323T100000
DTEND;TZID=Europe/Berlin:20240323T180000
DTSTAMP:20260422T152352
CREATED:20240303T065306Z
LAST-MODIFIED:20240303T065306Z
UID:10000061-1711188000-1711216800@kalscheuer.com
SUMMARY:URBAN! Digital und Analog! | Ausstellung
DESCRIPTION:Öffentlich \nNähere Infos finden Sie hier.
URL:https://kalscheuer.com/termin/urban-digital-und-analog-ausstellung/2024-03-23/
LOCATION:Standort Traunstein\, Weckerlestr. 17\, Traunstein\, 83278
ATTACH;FMTTYPE=image/jpeg:https://kalscheuer.com/wp-content/uploads/2024/03/urban_01.jpg
END:VEVENT
BEGIN:VEVENT
DTSTART;TZID=Europe/Berlin:20240322T140000
DTEND;TZID=Europe/Berlin:20240322T180000
DTSTAMP:20260422T152352
CREATED:20240303T065306Z
LAST-MODIFIED:20240303T065306Z
UID:10000060-1711116000-1711130400@kalscheuer.com
SUMMARY:URBAN! Digital und Analog! | Ausstellung
DESCRIPTION:Öffentlich \nNähere Infos finden Sie hier.
URL:https://kalscheuer.com/termin/urban-digital-und-analog-ausstellung/2024-03-22/
LOCATION:Standort Traunstein\, Weckerlestr. 17\, Traunstein\, 83278
ATTACH;FMTTYPE=image/jpeg:https://kalscheuer.com/wp-content/uploads/2024/03/urban_01.jpg
END:VEVENT
BEGIN:VEVENT
DTSTART;TZID=Europe/Berlin:20240320T190000
DTEND;TZID=Europe/Berlin:20240320T220000
DTSTAMP:20260422T152352
CREATED:20240303T064441Z
LAST-MODIFIED:20240303T064441Z
UID:10000058-1710961200-1710972000@kalscheuer.com
SUMMARY:URBAN! Digital und Analog! | Vernissage
DESCRIPTION:Öffentlich \nNähere Infos finden Sie hier.
URL:https://kalscheuer.com/termin/urban-digital-und-analog-vernissage/
LOCATION:Standort Traunstein\, Weckerlestr. 17\, Traunstein\, 83278
ATTACH;FMTTYPE=image/jpeg:https://kalscheuer.com/wp-content/uploads/2024/03/urban_header.jpg
END:VEVENT
BEGIN:VEVENT
DTSTART;VALUE=DATE:20240318
DTEND;VALUE=DATE:20240320
DTSTAMP:20260422T152352
CREATED:20240223T084400Z
LAST-MODIFIED:20240223T084400Z
UID:10000053-1710720000-1710892799@kalscheuer.com
SUMMARY:Studienfahrt nach Wien
DESCRIPTION:Klasse 11f
URL:https://kalscheuer.com/termin/studienfahrt-nach-wien/
LOCATION:Standort Traunstein\, Weckerlestr. 17\, Traunstein\, 83278
END:VEVENT
BEGIN:VEVENT
DTSTART;TZID=Europe/Berlin:20240314T080000
DTEND;TZID=Europe/Berlin:20240314T130000
DTSTAMP:20260422T152352
CREATED:20240312T084255Z
LAST-MODIFIED:20240312T084340Z
UID:10000066-1710403200-1710421200@kalscheuer.com
SUMMARY:Schulkinowochen: "Das Glasfenster"
DESCRIPTION:Klasse 11f
URL:https://kalscheuer.com/termin/schulkinowochen-das-glasfenster/
LOCATION:Standort Traunstein\, Weckerlestr. 17\, Traunstein\, 83278
END:VEVENT
BEGIN:VEVENT
DTSTART;TZID=Europe/Berlin:20240313T190000
DTEND;TZID=Europe/Berlin:20240313T220000
DTSTAMP:20260422T152352
CREATED:20240206T100107Z
LAST-MODIFIED:20240224T192858Z
UID:10000019-1710356400-1710367200@kalscheuer.com
SUMMARY:Lesung: Alois Prinz: I have a dream. Das Leben des Martin Luther King
DESCRIPTION:Öffentlich \nNähere Infos finden Sie hier.
URL:https://kalscheuer.com/termin/lesung-alois-prinz-abendveranstaltung/
LOCATION:Standort Traunstein\, Weckerlestr. 17\, Traunstein\, 83278
ATTACH;FMTTYPE=image/jpeg:https://kalscheuer.com/wp-content/uploads/2024/02/PDK-blogbeitrag-alois-prinz.jpg
END:VEVENT
BEGIN:VEVENT
DTSTART;TZID=Europe/Berlin:20240308T140000
DTEND;TZID=Europe/Berlin:20240308T180000
DTSTAMP:20260422T152352
CREATED:20240206T100105Z
LAST-MODIFIED:20240308T085631Z
UID:10000016-1709906400-1709920800@kalscheuer.com
SUMMARY:Tag der offenen Tür Traunstein
DESCRIPTION:öffentlich \nGanz herzlich laden wir zum Tag der offenen Tür in Traunstein ein. Wir informieren zur Wirtschaftsschule ab der 5. Klasse und den Berufsfachschulen für E-Business Management und Hotel- und Tourismusmanagement. \nNähere Infos finden Sie hier.
URL:https://kalscheuer.com/termin/tag-der-offenen-tuer/
LOCATION:Standort Traunstein\, Weckerlestr. 17\, Traunstein\, 83278
ATTACH;FMTTYPE=image/jpeg:https://kalscheuer.com/wp-content/uploads/2024/02/pdk-tag-der-offenen-tuer-traunstein.jpeg
END:VEVENT
BEGIN:VEVENT
DTSTART;VALUE=DATE:20240227
DTEND;VALUE=DATE:20240228
DTSTAMP:20260422T152352
CREATED:20240223T084107Z
LAST-MODIFIED:20240223T084107Z
UID:10000052-1708992000-1709078399@kalscheuer.com
SUMMARY:Besuch der Agentur für Arbeit
DESCRIPTION:Klasse 12 KA und 12 HoT
URL:https://kalscheuer.com/termin/besuch-der-agentur-fuer-arbeit/
LOCATION:Standort Traunstein\, Weckerlestr. 17\, Traunstein\, 83278
END:VEVENT
BEGIN:VEVENT
DTSTART;VALUE=DATE:20240226
DTEND;VALUE=DATE:20240309
DTSTAMP:20260422T152352
CREATED:20240124T141139Z
LAST-MODIFIED:20240124T141347Z
UID:10000012-1708905600-1709942399@kalscheuer.com
SUMMARY:Vera 8
DESCRIPTION:Klasse 8a
URL:https://kalscheuer.com/termin/vera-8/
LOCATION:Standort Traunstein\, Weckerlestr. 17\, Traunstein\, 83278
END:VEVENT
BEGIN:VEVENT
DTSTART;VALUE=DATE:20240222
DTEND;VALUE=DATE:20240223
DTSTAMP:20260422T152352
CREATED:20240223T083942Z
LAST-MODIFIED:20240223T083942Z
UID:10000051-1708560000-1708646399@kalscheuer.com
SUMMARY:Klassengemeinschaftstag
DESCRIPTION:Klasse 7a mit dem Schüler- und Studentenseminar Traunstein
URL:https://kalscheuer.com/termin/klassengemeinschaftstag/
LOCATION:Standort Traunstein\, Weckerlestr. 17\, Traunstein\, 83278
END:VEVENT
BEGIN:VEVENT
DTSTART;VALUE=DATE:20240222
DTEND;VALUE=DATE:20240223
DTSTAMP:20260422T152352
CREATED:20240124T141138Z
LAST-MODIFIED:20240201T080624Z
UID:10000009-1708560000-1708646399@kalscheuer.com
SUMMARY:Vortrag: Barmer Business Knigge
DESCRIPTION:Klasse 11f
URL:https://kalscheuer.com/termin/vortrag-barmer-business-knigge/
LOCATION:Standort Traunstein\, Weckerlestr. 17\, Traunstein\, 83278
END:VEVENT
BEGIN:VEVENT
DTSTART;VALUE=DATE:20240222
DTEND;VALUE=DATE:20240223
DTSTAMP:20260422T152352
CREATED:20240124T141138Z
LAST-MODIFIED:20240124T141605Z
UID:10000008-1708560000-1708646399@kalscheuer.com
SUMMARY:Vortrag: DEBEKA
DESCRIPTION:Klasse 10a
URL:https://kalscheuer.com/termin/vortrag-debeka/
LOCATION:Standort Traunstein\, Weckerlestr. 17\, Traunstein\, 83278
END:VEVENT
BEGIN:VEVENT
DTSTART;VALUE=DATE:20240222
DTEND;VALUE=DATE:20240223
DTSTAMP:20260422T152352
CREATED:20240124T141136Z
LAST-MODIFIED:20240208T105544Z
UID:10000007-1708560000-1708646399@kalscheuer.com
SUMMARY:Agentur für Arbeit: Berufsinformation
DESCRIPTION:Klasse 8a
URL:https://kalscheuer.com/termin/agentur-fuer-arbei-berufsinformation/
LOCATION:Standort Traunstein\, Weckerlestr. 17\, Traunstein\, 83278
END:VEVENT
BEGIN:VEVENT
DTSTART;VALUE=DATE:20240221
DTEND;VALUE=DATE:20240222
DTSTAMP:20260422T152352
CREATED:20240124T141136Z
LAST-MODIFIED:20240124T141554Z
UID:10000006-1708473600-1708559999@kalscheuer.com
SUMMARY:Ausflug: Wintersporttag
DESCRIPTION:Alle Klassen
URL:https://kalscheuer.com/termin/ausflug-wintersporttag/
LOCATION:Standort Traunstein\, Weckerlestr. 17\, Traunstein\, 83278
END:VEVENT
BEGIN:VEVENT
DTSTART;VALUE=DATE:20240220
DTEND;VALUE=DATE:20240221
DTSTAMP:20260422T152352
CREATED:20240124T141135Z
LAST-MODIFIED:20240124T141551Z
UID:10000005-1708387200-1708473599@kalscheuer.com
SUMMARY:Agentur für Arbeit: Berufsberatung
DESCRIPTION:BFS Klassen
URL:https://kalscheuer.com/termin/agentur-fuer-arbeit-berufsberatung/
LOCATION:Standort Traunstein\, Weckerlestr. 17\, Traunstein\, 83278
END:VEVENT
BEGIN:VEVENT
DTSTART;TZID=Europe/Berlin:20240201T190000
DTEND;TZID=Europe/Berlin:20240201T210000
DTSTAMP:20260422T152352
CREATED:20240201T082859Z
LAST-MODIFIED:20240222T142815Z
UID:10000014-1706814000-1706821200@kalscheuer.com
SUMMARY:Präsenzinfoabend Traunstein
DESCRIPTION:Lernen Sie alle drei Schulen in Traunstein an unserem Präsenzinfoabend kennen!\nDer Präsenzinfoabend der Wirtschaftsschule\, der Berufsfachschule für Hotel- und Tourismusmanagement und der Berufsfachschule für E-Business Management findet am 01.02.2024 um 19:00 Uhr in der Weckerlestr. 17 in Traunstein statt. \nNähere Informationen finden Sie hier:\nZur Veranstaltungsankündigung
URL:https://kalscheuer.com/termin/praesenzinfoabend-traunstein/
LOCATION:Standort Traunstein\, Weckerlestr. 17\, Traunstein\, 83278
ATTACH;FMTTYPE=image/jpeg:https://kalscheuer.com/wp-content/uploads/2024/02/pdk-praesenz-infoabend.jpeg
END:VEVENT
END:VCALENDAR