BEGIN:VCALENDAR
VERSION:2.0
PRODID:-//Privatschulen Dr. Kalscheuer - ECPv6.15.12.2//NONSGML v1.0//EN
CALSCALE:GREGORIAN
METHOD:PUBLISH
X-ORIGINAL-URL:https://kalscheuer.com
X-WR-CALDESC:Veranstaltungen für Privatschulen Dr. Kalscheuer
REFRESH-INTERVAL;VALUE=DURATION:PT1H
X-Robots-Tag:noindex
X-PUBLISHED-TTL:PT1H
BEGIN:VTIMEZONE
TZID:Europe/Berlin
BEGIN:DAYLIGHT
TZOFFSETFROM:+0100
TZOFFSETTO:+0200
TZNAME:CEST
DTSTART:20230326T010000
END:DAYLIGHT
BEGIN:STANDARD
TZOFFSETFROM:+0200
TZOFFSETTO:+0100
TZNAME:CET
DTSTART:20231029T010000
END:STANDARD
BEGIN:DAYLIGHT
TZOFFSETFROM:+0100
TZOFFSETTO:+0200
TZNAME:CEST
DTSTART:20240331T010000
END:DAYLIGHT
BEGIN:STANDARD
TZOFFSETFROM:+0200
TZOFFSETTO:+0100
TZNAME:CET
DTSTART:20241027T010000
END:STANDARD
BEGIN:DAYLIGHT
TZOFFSETFROM:+0100
TZOFFSETTO:+0200
TZNAME:CEST
DTSTART:20250330T010000
END:DAYLIGHT
BEGIN:STANDARD
TZOFFSETFROM:+0200
TZOFFSETTO:+0100
TZNAME:CET
DTSTART:20251026T010000
END:STANDARD
BEGIN:DAYLIGHT
TZOFFSETFROM:+0100
TZOFFSETTO:+0200
TZNAME:CEST
DTSTART:20260329T010000
END:DAYLIGHT
BEGIN:STANDARD
TZOFFSETFROM:+0200
TZOFFSETTO:+0100
TZNAME:CET
DTSTART:20261025T010000
END:STANDARD
BEGIN:DAYLIGHT
TZOFFSETFROM:+0100
TZOFFSETTO:+0200
TZNAME:CEST
DTSTART:20270328T010000
END:DAYLIGHT
BEGIN:STANDARD
TZOFFSETFROM:+0200
TZOFFSETTO:+0100
TZNAME:CET
DTSTART:20271031T010000
END:STANDARD
END:VTIMEZONE
BEGIN:VEVENT
DTSTART;TZID=Europe/Berlin:20260401T130000
DTEND;TZID=Europe/Berlin:20260401T160000
DTSTAMP:20260421T125359
CREATED:20260320T112211Z
LAST-MODIFIED:20260320T112211Z
UID:10000133-1775048400-1775059200@kalscheuer.com
SUMMARY:STREIFZÜGE - stille Beobachtungen (Ausstellung)
DESCRIPTION:Liebe Freunde der Kunst\,\nliebe Kolleginnen und Kollegen\, \nim Namen der Geschäftsführung der Privatschulen Dr. Kalscheuer laden wir Sie herzlich zum Besuch unserer 1. Kunstausstellung in Rosenheim ein. Als künftige Reihe geplant\, möchten wir unsere Schülerinnen und Schülern mit zeitgenössischer Kunst in Berührung bringen und ihnen zugleich einen lebendigen Austausch mit den Künstlerinnen und Künstlern eröffnen. \nIn diesem Jahr präsentieren wir eine Auswahl an Fotografien der Rosenheimerin Heidi Fembacher unter dem Titel „STREIFZÜGE – stille Beobachtungen“. \n  \nAusstellung: „STREIFZÜGE – stille Beobachtungen“ | Heidi Fembacher – Fotografien\n27.03. | 13:00-18:00 Uhr\n28.03. bis 01.04. | 13:00-16:00 Uhr\nim Dachgeschoss der Privatschulen Dr. Kalscheuer\, Rosenheim\, in der Königstraße 7 \nFür den Besuch an diesen Tagen ist keine Anmeldung erforderlich. Der Eintritt ist frei. \nWeitere Infos finden Sie hier.
URL:https://kalscheuer.com/termin/streifzuege-stille-beobachtungen-ausstellung/2026-04-01/
LOCATION:Standort Rosenheim\, Königstr. 1\, Rosenheim\, 83022
ATTACH;FMTTYPE=image/jpeg:https://kalscheuer.com/wp-content/uploads/2026/03/hf-streifzuege-header.jpg
END:VEVENT
BEGIN:VEVENT
DTSTART;TZID=Europe/Berlin:20260331T130000
DTEND;TZID=Europe/Berlin:20260331T160000
DTSTAMP:20260421T125359
CREATED:20260320T112211Z
LAST-MODIFIED:20260320T112211Z
UID:10000132-1774962000-1774972800@kalscheuer.com
SUMMARY:STREIFZÜGE - stille Beobachtungen (Ausstellung)
DESCRIPTION:Liebe Freunde der Kunst\,\nliebe Kolleginnen und Kollegen\, \nim Namen der Geschäftsführung der Privatschulen Dr. Kalscheuer laden wir Sie herzlich zum Besuch unserer 1. Kunstausstellung in Rosenheim ein. Als künftige Reihe geplant\, möchten wir unsere Schülerinnen und Schülern mit zeitgenössischer Kunst in Berührung bringen und ihnen zugleich einen lebendigen Austausch mit den Künstlerinnen und Künstlern eröffnen. \nIn diesem Jahr präsentieren wir eine Auswahl an Fotografien der Rosenheimerin Heidi Fembacher unter dem Titel „STREIFZÜGE – stille Beobachtungen“. \n  \nAusstellung: „STREIFZÜGE – stille Beobachtungen“ | Heidi Fembacher – Fotografien\n27.03. | 13:00-18:00 Uhr\n28.03. bis 01.04. | 13:00-16:00 Uhr\nim Dachgeschoss der Privatschulen Dr. Kalscheuer\, Rosenheim\, in der Königstraße 7 \nFür den Besuch an diesen Tagen ist keine Anmeldung erforderlich. Der Eintritt ist frei. \nWeitere Infos finden Sie hier.
URL:https://kalscheuer.com/termin/streifzuege-stille-beobachtungen-ausstellung/2026-03-31/
LOCATION:Standort Rosenheim\, Königstr. 1\, Rosenheim\, 83022
ATTACH;FMTTYPE=image/jpeg:https://kalscheuer.com/wp-content/uploads/2026/03/hf-streifzuege-header.jpg
END:VEVENT
BEGIN:VEVENT
DTSTART;TZID=Europe/Berlin:20260330T130000
DTEND;TZID=Europe/Berlin:20260330T160000
DTSTAMP:20260421T125359
CREATED:20260320T112211Z
LAST-MODIFIED:20260320T112211Z
UID:10000131-1774875600-1774886400@kalscheuer.com
SUMMARY:STREIFZÜGE - stille Beobachtungen (Ausstellung)
DESCRIPTION:Liebe Freunde der Kunst\,\nliebe Kolleginnen und Kollegen\, \nim Namen der Geschäftsführung der Privatschulen Dr. Kalscheuer laden wir Sie herzlich zum Besuch unserer 1. Kunstausstellung in Rosenheim ein. Als künftige Reihe geplant\, möchten wir unsere Schülerinnen und Schülern mit zeitgenössischer Kunst in Berührung bringen und ihnen zugleich einen lebendigen Austausch mit den Künstlerinnen und Künstlern eröffnen. \nIn diesem Jahr präsentieren wir eine Auswahl an Fotografien der Rosenheimerin Heidi Fembacher unter dem Titel „STREIFZÜGE – stille Beobachtungen“. \n  \nAusstellung: „STREIFZÜGE – stille Beobachtungen“ | Heidi Fembacher – Fotografien\n27.03. | 13:00-18:00 Uhr\n28.03. bis 01.04. | 13:00-16:00 Uhr\nim Dachgeschoss der Privatschulen Dr. Kalscheuer\, Rosenheim\, in der Königstraße 7 \nFür den Besuch an diesen Tagen ist keine Anmeldung erforderlich. Der Eintritt ist frei. \nWeitere Infos finden Sie hier.
URL:https://kalscheuer.com/termin/streifzuege-stille-beobachtungen-ausstellung/2026-03-30/
LOCATION:Standort Rosenheim\, Königstr. 1\, Rosenheim\, 83022
ATTACH;FMTTYPE=image/jpeg:https://kalscheuer.com/wp-content/uploads/2026/03/hf-streifzuege-header.jpg
END:VEVENT
BEGIN:VEVENT
DTSTART;TZID=Europe/Berlin:20260329T130000
DTEND;TZID=Europe/Berlin:20260329T160000
DTSTAMP:20260421T125359
CREATED:20260320T112211Z
LAST-MODIFIED:20260320T112211Z
UID:10000130-1774789200-1774800000@kalscheuer.com
SUMMARY:STREIFZÜGE - stille Beobachtungen (Ausstellung)
DESCRIPTION:Liebe Freunde der Kunst\,\nliebe Kolleginnen und Kollegen\, \nim Namen der Geschäftsführung der Privatschulen Dr. Kalscheuer laden wir Sie herzlich zum Besuch unserer 1. Kunstausstellung in Rosenheim ein. Als künftige Reihe geplant\, möchten wir unsere Schülerinnen und Schülern mit zeitgenössischer Kunst in Berührung bringen und ihnen zugleich einen lebendigen Austausch mit den Künstlerinnen und Künstlern eröffnen. \nIn diesem Jahr präsentieren wir eine Auswahl an Fotografien der Rosenheimerin Heidi Fembacher unter dem Titel „STREIFZÜGE – stille Beobachtungen“. \n  \nAusstellung: „STREIFZÜGE – stille Beobachtungen“ | Heidi Fembacher – Fotografien\n27.03. | 13:00-18:00 Uhr\n28.03. bis 01.04. | 13:00-16:00 Uhr\nim Dachgeschoss der Privatschulen Dr. Kalscheuer\, Rosenheim\, in der Königstraße 7 \nFür den Besuch an diesen Tagen ist keine Anmeldung erforderlich. Der Eintritt ist frei. \nWeitere Infos finden Sie hier.
URL:https://kalscheuer.com/termin/streifzuege-stille-beobachtungen-ausstellung/2026-03-29/
LOCATION:Standort Rosenheim\, Königstr. 1\, Rosenheim\, 83022
ATTACH;FMTTYPE=image/jpeg:https://kalscheuer.com/wp-content/uploads/2026/03/hf-streifzuege-header.jpg
END:VEVENT
BEGIN:VEVENT
DTSTART;TZID=Europe/Berlin:20260328T130000
DTEND;TZID=Europe/Berlin:20260328T160000
DTSTAMP:20260421T125359
CREATED:20260320T112211Z
LAST-MODIFIED:20260320T112211Z
UID:10000129-1774702800-1774713600@kalscheuer.com
SUMMARY:STREIFZÜGE - stille Beobachtungen (Ausstellung)
DESCRIPTION:Liebe Freunde der Kunst\,\nliebe Kolleginnen und Kollegen\, \nim Namen der Geschäftsführung der Privatschulen Dr. Kalscheuer laden wir Sie herzlich zum Besuch unserer 1. Kunstausstellung in Rosenheim ein. Als künftige Reihe geplant\, möchten wir unsere Schülerinnen und Schülern mit zeitgenössischer Kunst in Berührung bringen und ihnen zugleich einen lebendigen Austausch mit den Künstlerinnen und Künstlern eröffnen. \nIn diesem Jahr präsentieren wir eine Auswahl an Fotografien der Rosenheimerin Heidi Fembacher unter dem Titel „STREIFZÜGE – stille Beobachtungen“. \n  \nAusstellung: „STREIFZÜGE – stille Beobachtungen“ | Heidi Fembacher – Fotografien\n27.03. | 13:00-18:00 Uhr\n28.03. bis 01.04. | 13:00-16:00 Uhr\nim Dachgeschoss der Privatschulen Dr. Kalscheuer\, Rosenheim\, in der Königstraße 7 \nFür den Besuch an diesen Tagen ist keine Anmeldung erforderlich. Der Eintritt ist frei. \nWeitere Infos finden Sie hier.
URL:https://kalscheuer.com/termin/streifzuege-stille-beobachtungen-ausstellung/2026-03-28/
LOCATION:Standort Rosenheim\, Königstr. 1\, Rosenheim\, 83022
ATTACH;FMTTYPE=image/jpeg:https://kalscheuer.com/wp-content/uploads/2026/03/hf-streifzuege-header.jpg
END:VEVENT
BEGIN:VEVENT
DTSTART;TZID=Europe/Berlin:20260327T130000
DTEND;TZID=Europe/Berlin:20260327T180000
DTSTAMP:20260421T125359
CREATED:20260320T112211Z
LAST-MODIFIED:20260320T112211Z
UID:10000128-1774616400-1774634400@kalscheuer.com
SUMMARY:STREIFZÜGE - stille Beobachtungen (Ausstellung)
DESCRIPTION:Liebe Freunde der Kunst\,\nliebe Kolleginnen und Kollegen\, \nim Namen der Geschäftsführung der Privatschulen Dr. Kalscheuer laden wir Sie herzlich zum Besuch unserer 1. Kunstausstellung in Rosenheim ein. Als künftige Reihe geplant\, möchten wir unsere Schülerinnen und Schülern mit zeitgenössischer Kunst in Berührung bringen und ihnen zugleich einen lebendigen Austausch mit den Künstlerinnen und Künstlern eröffnen. \nIn diesem Jahr präsentieren wir eine Auswahl an Fotografien der Rosenheimerin Heidi Fembacher unter dem Titel „STREIFZÜGE – stille Beobachtungen“. \n  \nAusstellung: „STREIFZÜGE – stille Beobachtungen“ | Heidi Fembacher – Fotografien\n27.03. | 13:00-18:00 Uhr\n28.03. bis 01.04. | 13:00-16:00 Uhr\nim Dachgeschoss der Privatschulen Dr. Kalscheuer\, Rosenheim\, in der Königstraße 7 \nFür den Besuch an diesen Tagen ist keine Anmeldung erforderlich. Der Eintritt ist frei. \nWeitere Infos finden Sie hier.
URL:https://kalscheuer.com/termin/streifzuege-stille-beobachtungen-ausstellung/2026-03-27/
LOCATION:Standort Rosenheim\, Königstr. 1\, Rosenheim\, 83022
ATTACH;FMTTYPE=image/jpeg:https://kalscheuer.com/wp-content/uploads/2026/03/hf-streifzuege-header.jpg
END:VEVENT
BEGIN:VEVENT
DTSTART;TZID=Europe/Berlin:20260326T190000
DTEND;TZID=Europe/Berlin:20260326T220000
DTSTAMP:20260421T125359
CREATED:20260320T111526Z
LAST-MODIFIED:20260320T111526Z
UID:10000127-1774551600-1774562400@kalscheuer.com
SUMMARY:STREIFZÜGE - stille Beobachtungen (Vernissage)
DESCRIPTION:Liebe Freunde der Kunst\,\nliebe Kolleginnen und Kollegen\, \nim Namen der Geschäftsführung der Privatschulen Dr. Kalscheuer laden wir Sie herzlich zur Eröffnung unserer 1. Kunstausstellung in Rosenheim ein. Als künftige Reihe geplant\, möchten wir unsere Schülerinnen und Schülern mit zeitgenössischer Kunst in Berührung bringen und ihnen zugleich einen lebendigen Austausch mit den Künstlerinnen und Künstlern eröffnen. \nIn diesem Jahr präsentieren wir eine Auswahl an Fotografien der Rosenheimerin Heidi Fembacher unter dem Titel „STREIFZÜGE – stille Beobachtungen“. \n  \nVernissage: „STREIFZÜGE – stille Beobachtungen“ | Heidi Fembacher – Fotografien\nDonnerstag\, 26. März 2026\, ab 19:00 Uhr\nim Dachgeschoss der Privatschulen Dr. Kalscheuer\, Rosenheim\, in der Königstraße 7 \n  \nIm Anschluss an die Eröffnung laden wir Sie zu einem Buffet ein. \nWir bitten um Ihre Anmeldung bis zum 25.03.2026 per Telefon: 08031 33031 oder E-Mail: rosenheim@kalscheuer.com \nMehr Infos finden Sie hier.
URL:https://kalscheuer.com/termin/streifzuege-stille-beobachtungen-vernissage/
LOCATION:Standort Rosenheim\, Königstr. 1\, Rosenheim\, 83022
ATTACH;FMTTYPE=image/jpeg:https://kalscheuer.com/wp-content/uploads/2026/03/hf-streifzuege-header.jpg
END:VEVENT
BEGIN:VEVENT
DTSTART;TZID=Europe/Berlin:20251202T190000
DTEND;TZID=Europe/Berlin:20251202T210000
DTSTAMP:20260421T125359
CREATED:20251118T100604Z
LAST-MODIFIED:20251125T110741Z
UID:10000116-1764702000-1764709200@kalscheuer.com
SUMMARY:Online Infoabend | 02.12. | 19:00
DESCRIPTION:Öffentlich \nDen ZOOM Link finden Sie hier. \nNähere Infos finden Sie hier. \nLernen Sie die Wirtschaftsschule ab der 5. Klasse und die Berufsfachschule für kaufmännische Assistenten\, Fachrichtung E-Business Management\, am Online Infoabend in Rosenheim kennen!
URL:https://kalscheuer.com/termin/online-infoabend-02-12/
LOCATION:Standort Rosenheim\, Königstr. 1\, Rosenheim\, 83022
ATTACH;FMTTYPE=image/jpeg:https://kalscheuer.com/wp-content/uploads/2025/11/online-ro-2025.jpg
END:VEVENT
BEGIN:VEVENT
DTSTART;TZID=Europe/Berlin:20251006T131500
DTEND;TZID=Europe/Berlin:20251006T144500
DTSTAMP:20260421T125359
CREATED:20250929T100503Z
LAST-MODIFIED:20250929T100609Z
UID:10000106-1759756500-1759761900@kalscheuer.com
SUMMARY:Spendenlauf für das Projekt Nepal e.V. (Rosenheim)
DESCRIPTION:Im Rahmen des Sportfestes am 06.10.2025 in Rosenheim werden wir einen Spendenlauf zugunsten des Nepalprojekts durchführen. \nRosenheim \nWann: 06.10.2025\nBeginn: 13.15 Uhr (vorheriger Treffpunkt um 12:35 Uhr für alle im Klassenzimmer)\nOrt des Sportfests: Jahnstadion (Jahnstraße 25\, 83022 Rosenheim)\nEnde: ca. 14.45 Uhr im Jahnstadion \nWeitere Informationen finden Sie hier.
URL:https://kalscheuer.com/termin/spendenlauf-2025-rosenheim/
LOCATION:Standort Rosenheim\, Königstr. 1\, Rosenheim\, 83022
ATTACH;FMTTYPE=image/jpeg:https://kalscheuer.com/wp-content/uploads/2025/07/spendenlauf-25-header.jpg
END:VEVENT
BEGIN:VEVENT
DTSTART;TZID=Europe/Berlin:20250728T075500
DTEND;TZID=Europe/Berlin:20250728T133000
DTSTAMP:20260421T125359
CREATED:20250704T124104Z
LAST-MODIFIED:20250708T074905Z
UID:10000103-1753689300-1753709400@kalscheuer.com
SUMMARY:Spendenlauf für das Projekt Nepal e.V.
DESCRIPTION:Im Rahmen des Sportfestes werden wir einen Spendenlauf zugunsten des Nepalprojekts durchführen. \nWann: 28.07.25\nTreffpunkt: 07.55 Uhr im Klassenzimmer (für Rosenheim)\, bzw. 07:30 Uhr vor der Eingangshalle Bahnhof Traunstein (für Traunstein)\nOrt des Sportfests: Jahnstadion in Rosenheim\nEnde: ca. 13.30 Uhr am Jahnstadion (Jahnstraße 25\, 83022 Rosenheim)\, bzw. ca. 14:15 Uhr am Bahnhof Traunstein \nWeitere Infos gibt es hier.
URL:https://kalscheuer.com/termin/spendenlauf-2025/
LOCATION:Standort Rosenheim\, Königstr. 1\, Rosenheim\, 83022
ATTACH;FMTTYPE=image/jpeg:https://kalscheuer.com/wp-content/uploads/2025/07/spendenlauf-25-header.jpg
END:VEVENT
BEGIN:VEVENT
DTSTART;TZID=Europe/Berlin:20250329T100000
DTEND;TZID=Europe/Berlin:20250329T160000
DTSTAMP:20260421T125359
CREATED:20250115T101949Z
LAST-MODIFIED:20250115T102143Z
UID:10000096-1743242400-1743264000@kalscheuer.com
SUMMARY:18. Bayerischer Wirtschaftsschultag | 29.03. | 10:00 - 16:00
DESCRIPTION:Wir laden Sie herzlich zum 18. Bayerischen Wirtschaftsschultag am Samstag\, den 29. März 2025\, in Rosenheim ein.\nVeranstaltet wird dieser besondere Tag von der Arbeitsgemeinschaft Bayerische Wirtschaftsschule (ARGE) in Zusammenarbeit mit ihren Verbänden und Vereinigungen (LEV\, DBW\, VBP\, VLB). \nDie Teilnahme ist nur mit vorheriger Anmeldung möglich. \nWeitere Infos finden Sie hier.
URL:https://kalscheuer.com/termin/wst25/
LOCATION:Standort Rosenheim\, Königstr. 1\, Rosenheim\, 83022
ATTACH;FMTTYPE=image/jpeg:https://kalscheuer.com/wp-content/uploads/2025/01/wst25-header.jpg
END:VEVENT
BEGIN:VEVENT
DTSTART;VALUE=DATE:20240718
DTEND;VALUE=DATE:20240719
DTSTAMP:20260421T125359
CREATED:20240223T083832Z
LAST-MODIFIED:20240506T072506Z
UID:10000050-1721260800-1721347199@kalscheuer.com
SUMMARY:Abschlussandacht und Abschlussfeier
DESCRIPTION:Klasse 10b\, 10c und 11y
URL:https://kalscheuer.com/termin/abschlussandacht-und-abschlussfeier/
LOCATION:Standort Rosenheim\, Königstr. 1\, Rosenheim\, 83022
END:VEVENT
BEGIN:VEVENT
DTSTART;TZID=Europe/Berlin:20240705T170000
DTEND;TZID=Europe/Berlin:20240705T220000
DTSTAMP:20260421T125359
CREATED:20240223T083056Z
LAST-MODIFIED:20240321T091917Z
UID:10000049-1720198800-1720216800@kalscheuer.com
SUMMARY:Sommerfest der Ehemaligen
DESCRIPTION:Öffentlich \nKommt vorbei und feiert mit uns! Am Freitag\, den 5. Juli 2024\, ab 17 Uhr öffnen wir den Schulhof in der Königstr. 1 für das Sommerfest der Ehemaligen unserer Rosenheimer Schule. \nTrefft eure ehemaligen Lehrkräfte und Klassenkameraden\, schwelgt in gemeinsamen Erinnerungen oder plaudert einfach über die good ol‘ times. Wir freuen uns auf Euren Besuch! \nDie Privatschulen Dr. Kalscheuer Rosenheim richten dieses Fest aus\, unterstützt von vielen Lehrkräften unserer Schule. Die Erlöse der Veranstaltung gehen an unser Schulprojekt Projekt Nepal e.V.
URL:https://kalscheuer.com/termin/sommerfest-der-ehemaligen/
LOCATION:Standort Rosenheim\, Königstr. 1\, Rosenheim\, 83022
ATTACH;FMTTYPE=image/jpeg:https://kalscheuer.com/wp-content/uploads/2024/02/sommerfest_ro_header.jpg
END:VEVENT
BEGIN:VEVENT
DTSTART;TZID=Europe/Berlin:20240617T080000
DTEND;TZID=Europe/Berlin:20240617T170000
DTSTAMP:20260421T125359
CREATED:20240603T074023Z
LAST-MODIFIED:20240603T074208Z
UID:10000078-1718611200-1718643600@kalscheuer.com
SUMMARY:Besuch der Ausstellung "Heldinnen und Helden"
DESCRIPTION:Klasse 5a und 7a \nLokschuppen Rosenheim
URL:https://kalscheuer.com/termin/heldinnen-und-helden/
LOCATION:Standort Rosenheim\, Königstr. 1\, Rosenheim\, 83022
END:VEVENT
BEGIN:VEVENT
DTSTART;TZID=Europe/Berlin:20240603T080000
DTEND;TZID=Europe/Berlin:20240603T170000
DTSTAMP:20260421T125359
CREATED:20240603T073508Z
LAST-MODIFIED:20240603T073535Z
UID:10000075-1717401600-1717434000@kalscheuer.com
SUMMARY:Juniorwahl
DESCRIPTION:
URL:https://kalscheuer.com/termin/juniorwahl-rosenheim/
LOCATION:Standort Rosenheim\, Königstr. 1\, Rosenheim\, 83022
END:VEVENT
BEGIN:VEVENT
DTSTART;VALUE=DATE:20240426
DTEND;VALUE=DATE:20240427
DTSTAMP:20260421T125359
CREATED:20240223T082832Z
LAST-MODIFIED:20240223T082832Z
UID:10000048-1714089600-1714175999@kalscheuer.com
SUMMARY:Falschgeldvortrag der Bundesbank
DESCRIPTION:Klassen 9-12
URL:https://kalscheuer.com/termin/falschgeldvortrag-der-bundesbank/
LOCATION:Standort Rosenheim\, Königstr. 1\, Rosenheim\, 83022
END:VEVENT
BEGIN:VEVENT
DTSTART;TZID=Europe/Berlin:20240319T080000
DTEND;TZID=Europe/Berlin:20240319T130000
DTSTAMP:20260421T125359
CREATED:20240312T084425Z
LAST-MODIFIED:20240312T084425Z
UID:10000067-1710835200-1710853200@kalscheuer.com
SUMMARY:Schulkinowochen
DESCRIPTION:Klasse 5a
URL:https://kalscheuer.com/termin/schulkinowochen/
LOCATION:Standort Rosenheim\, Königstr. 1\, Rosenheim\, 83022
END:VEVENT
BEGIN:VEVENT
DTSTART;TZID=Europe/Berlin:20240313T080000
DTEND;TZID=Europe/Berlin:20240313T130000
DTSTAMP:20260421T125359
CREATED:20240223T081931Z
LAST-MODIFIED:20240224T192831Z
UID:10000047-1710316800-1710334800@kalscheuer.com
SUMMARY:Lesung: Alois Prinz: I have a dream. Das Leben des Martin Luther King
DESCRIPTION:Klassen 9-12 \nDr. Alois Prinz\, vielfach ausgezeichneter Autor von Biografien u.a. über Ulrike Meinhof\, Hermann Hesse\, Hannah Arendt oder Simone de Beauvoir wird unseren Rosenheimer Schüler*innen in Workshops das beeindruckende Leben von Martin Luther King näherbringen. \nParallel dazu findet am 13.03.2024 um 19:00 Uhr eine Lesung seiner Biografie „I have a dream – Das Leben des Martin Luther King“\, illustriert mit Bildern und Filmausschnitten sowie musikalisch begleitet von Johannes Öllinger in unserer Traunsteiner Schule statt. \nNähere Infos finden Sie hier.
URL:https://kalscheuer.com/termin/lesung-alois-prinz-workshops/
LOCATION:Standort Rosenheim\, Königstr. 1\, Rosenheim\, 83022
ATTACH;FMTTYPE=image/jpeg:https://kalscheuer.com/wp-content/uploads/2024/02/PDK-blogbeitrag-alois-prinz.jpg
END:VEVENT
BEGIN:VEVENT
DTSTART;TZID=Europe/Berlin:20240228T160000
DTEND;TZID=Europe/Berlin:20240228T183000
DTSTAMP:20260421T125359
CREATED:20240219T104600Z
LAST-MODIFIED:20240226T200650Z
UID:10000046-1709136000-1709145000@kalscheuer.com
SUMMARY:Tag der offenen Tür Rosenheim
DESCRIPTION:öffentlich \nGanz herzlich laden wir zum Tag der offenen Tür in Rosenheim ein. Wir informieren zur Wirtschaftsschule ab der 5. Klasse und der Berufsfachschule für E-Business Management.
URL:https://kalscheuer.com/termin/tag-der-offenen-tuer-rosenheim/
LOCATION:Standort Rosenheim\, Königstr. 1\, Rosenheim\, 83022
ATTACH;FMTTYPE=image/jpeg:https://kalscheuer.com/wp-content/uploads/2024/02/pdk-tag-der-offenen-tuer-rosenheim.jpeg
END:VEVENT
BEGIN:VEVENT
DTSTART;VALUE=DATE:20240227
DTEND;VALUE=DATE:20240228
DTSTAMP:20260421T125359
CREATED:20240124T141142Z
LAST-MODIFIED:20240206T094923Z
UID:10000013-1708992000-1709078399@kalscheuer.com
SUMMARY:Ausflug: Betriebsbesichtigung MarcOPolo
DESCRIPTION:BFS Klasse 12
URL:https://kalscheuer.com/termin/ausflug-betriebsbesichtigung-marcopolo/
LOCATION:Standort Rosenheim\, Königstr. 1\, Rosenheim\, 83022
END:VEVENT
BEGIN:VEVENT
DTSTART;VALUE=DATE:20240205
DTEND;VALUE=DATE:20240207
DTSTAMP:20260421T125359
CREATED:20240124T141135Z
LAST-MODIFIED:20240124T141547Z
UID:10000004-1707091200-1707263999@kalscheuer.com
SUMMARY:Bewerbertage
DESCRIPTION:Klassen 9c\, 10y
URL:https://kalscheuer.com/termin/bewerbertage/
LOCATION:Standort Rosenheim\, Königstr. 1\, Rosenheim\, 83022
END:VEVENT
BEGIN:VEVENT
DTSTART;VALUE=DATE:20240201
DTEND;VALUE=DATE:20240202
DTSTAMP:20260421T125359
CREATED:20240124T141135Z
LAST-MODIFIED:20240124T141542Z
UID:10000003-1706745600-1706831999@kalscheuer.com
SUMMARY:Klassenseminar: Teil 3
DESCRIPTION:Klasse 6a
URL:https://kalscheuer.com/termin/klassenseminar-teil-3/
LOCATION:Standort Rosenheim\, Königstr. 1\, Rosenheim\, 83022
END:VEVENT
END:VCALENDAR