BEGIN:VCALENDAR
VERSION:2.0
PRODID:-//Privatschulen Dr. Kalscheuer - ECPv6.15.12.2//NONSGML v1.0//EN
CALSCALE:GREGORIAN
METHOD:PUBLISH
X-ORIGINAL-URL:https://kalscheuer.com
X-WR-CALDESC:Veranstaltungen für Privatschulen Dr. Kalscheuer
REFRESH-INTERVAL;VALUE=DURATION:PT1H
X-Robots-Tag:noindex
X-PUBLISHED-TTL:PT1H
BEGIN:VTIMEZONE
TZID:Europe/Berlin
BEGIN:DAYLIGHT
TZOFFSETFROM:+0100
TZOFFSETTO:+0200
TZNAME:CEST
DTSTART:20230326T010000
END:DAYLIGHT
BEGIN:STANDARD
TZOFFSETFROM:+0200
TZOFFSETTO:+0100
TZNAME:CET
DTSTART:20231029T010000
END:STANDARD
BEGIN:DAYLIGHT
TZOFFSETFROM:+0100
TZOFFSETTO:+0200
TZNAME:CEST
DTSTART:20240331T010000
END:DAYLIGHT
BEGIN:STANDARD
TZOFFSETFROM:+0200
TZOFFSETTO:+0100
TZNAME:CET
DTSTART:20241027T010000
END:STANDARD
BEGIN:DAYLIGHT
TZOFFSETFROM:+0100
TZOFFSETTO:+0200
TZNAME:CEST
DTSTART:20250330T010000
END:DAYLIGHT
BEGIN:STANDARD
TZOFFSETFROM:+0200
TZOFFSETTO:+0100
TZNAME:CET
DTSTART:20251026T010000
END:STANDARD
BEGIN:DAYLIGHT
TZOFFSETFROM:+0100
TZOFFSETTO:+0200
TZNAME:CEST
DTSTART:20260329T010000
END:DAYLIGHT
BEGIN:STANDARD
TZOFFSETFROM:+0200
TZOFFSETTO:+0100
TZNAME:CET
DTSTART:20261025T010000
END:STANDARD
BEGIN:DAYLIGHT
TZOFFSETFROM:+0100
TZOFFSETTO:+0200
TZNAME:CEST
DTSTART:20270328T010000
END:DAYLIGHT
BEGIN:STANDARD
TZOFFSETFROM:+0200
TZOFFSETTO:+0100
TZNAME:CET
DTSTART:20271031T010000
END:STANDARD
END:VTIMEZONE
BEGIN:VEVENT
DTSTART;TZID=Europe/Berlin:20260415T190000
DTEND;TZID=Europe/Berlin:20260415T210000
DTSTAMP:20260424T124213
CREATED:20260206T084912Z
LAST-MODIFIED:20260327T105208Z
UID:10000123-1776279600-1776286800@kalscheuer.com
SUMMARY:Online Infoabend | 15.04. | 19:00 | beide Standorte
DESCRIPTION:Lernen Sie die Wirtschaftsschule ab der 5. Klasse\, die beiden Berufsfachschulen\, E-Business Management und Hotel- und Tourismusmanagement\, und den Studiengang Tourismusmanagement (B.A.) am Online Infoabend kennen! \nDen ZOOM Link finden Sie hier. \nNähere Infos finden Sie hier. \nÖffentlich
URL:https://kalscheuer.com/termin/online-infoabend-15-04/
LOCATION:Beide Standorte
ATTACH;FMTTYPE=image/jpeg:https://kalscheuer.com/wp-content/uploads/2024/02/pdk-online-infoabend.jpeg
END:VEVENT
BEGIN:VEVENT
DTSTART;TZID=Europe/Berlin:20260307T100000
DTEND;TZID=Europe/Berlin:20260307T140000
DTSTAMP:20260424T124213
CREATED:20260122T104606Z
LAST-MODIFIED:20260122T122206Z
UID:10000118-1772877600-1772892000@kalscheuer.com
SUMMARY:Tag der offenen Tür | 07.03. | 10:00-14:00 | beide Standorte
DESCRIPTION:Öffentlich \nNähere Infos finden Sie hier. \nWir informieren an unserem Tag der offenen Tür vor Ort in Rosenheim und Traunstein zur Wirtschaftsschule ab der 5. Klasse\, zu den Berufsfachschulen für E-Business Management und für Hotel- und Tourismusmanagement zum neuen Studiengang Tourismusmanagement (Bachelor of Arts).
URL:https://kalscheuer.com/termin/tag-der-offenen-tuer-2026/
LOCATION:Beide Standorte
ATTACH;FMTTYPE=image/jpeg:https://kalscheuer.com/wp-content/uploads/2024/12/tdot-ts-2025-header.jpg
END:VEVENT
BEGIN:VEVENT
DTSTART;TZID=Europe/Berlin:20260130T190000
DTEND;TZID=Europe/Berlin:20260130T210000
DTSTAMP:20260424T124213
CREATED:20251203T094011Z
LAST-MODIFIED:20260130T090819Z
UID:10000117-1769799600-1769806800@kalscheuer.com
SUMMARY:Online Infoabend | 30.01. | 19:00 | beide Standorte
DESCRIPTION:Lernen Sie die Wirtschaftsschule ab der 5. Klasse\, die beiden Berufsfachschulen\, E-Business Management und Hotel- und Tourismusmanagement\, und den Studiengang Tourismusmanagement (B.A.) am Online Infoabend kennen! \nDen ZOOM Link finden Sie hier. \nNähere Infos finden Sie hier. \nÖffentlich
URL:https://kalscheuer.com/termin/online-infoabend-30-01/
LOCATION:Beide Standorte
ATTACH;FMTTYPE=image/jpeg:https://kalscheuer.com/wp-content/uploads/2024/02/pdk-online-infoabend.jpeg
END:VEVENT
BEGIN:VEVENT
DTSTART;TZID=Europe/Berlin:20250908T190000
DTEND;TZID=Europe/Berlin:20250908T210000
DTSTAMP:20260424T124213
CREATED:20241212T093029Z
LAST-MODIFIED:20250902T074626Z
UID:10000093-1757358000-1757365200@kalscheuer.com
SUMMARY:Online Infoabend | 08.09. | 19:00
DESCRIPTION:Öffentlich \nDen ZOOM Link finden Sie hier. \nNähere Infos finden Sie hier. \nLernen Sie die Wirtschaftsschule ab der 5. Klasse\, die beiden Berufsfachschulen\, E-Business Management und Hotel- und Tourismusmanagement\, und den Studiengang Tourismusmanagement (B.A.) am Online Infoabend kennen!
URL:https://kalscheuer.com/termin/online-infoabend-08-09/
LOCATION:Beide Standorte
ATTACH;FMTTYPE=image/jpeg:https://kalscheuer.com/wp-content/uploads/2024/02/pdk-online-infoabend.jpeg
END:VEVENT
BEGIN:VEVENT
DTSTART;TZID=Europe/Berlin:20250804T190000
DTEND;TZID=Europe/Berlin:20250804T210000
DTSTAMP:20260424T124213
CREATED:20241212T092942Z
LAST-MODIFIED:20250602T091114Z
UID:10000092-1754334000-1754341200@kalscheuer.com
SUMMARY:Online Infoabend | 04.08. | 19:00
DESCRIPTION:Öffentlich \nDen ZOOM Link finden Sie hier. \nNähere Infos finden Sie hier. \nLernen Sie die Wirtschaftsschule ab der 5. Klasse\, die beiden Berufsfachschulen\, E-Business Management und Hotel- und Tourismusmanagement\, und den Studiengang Tourismusmanagement (B.A.) am Online Infoabend kennen!
URL:https://kalscheuer.com/termin/online-infoabend-04-08/
LOCATION:Beide Standorte
ATTACH;FMTTYPE=image/jpeg:https://kalscheuer.com/wp-content/uploads/2024/02/pdk-online-infoabend.jpeg
END:VEVENT
BEGIN:VEVENT
DTSTART;TZID=Europe/Berlin:20250717T190000
DTEND;TZID=Europe/Berlin:20250717T210000
DTSTAMP:20260424T124213
CREATED:20241212T092855Z
LAST-MODIFIED:20250602T090949Z
UID:10000091-1752778800-1752786000@kalscheuer.com
SUMMARY:Online Infoabend | 17.07. | 19:00
DESCRIPTION:Öffentlich \nDen ZOOM Link finden Sie hier. \nNähere Infos finden Sie hier. \nLernen Sie die Wirtschaftsschule ab der 5. Klasse\, die beiden Berufsfachschulen\, E-Business Management und Hotel- und Tourismusmanagement\, und den Studiengang Tourismusmanagement (B.A.) am Online Infoabend kennen!
URL:https://kalscheuer.com/termin/online-infoabend-17-07/
LOCATION:Beide Standorte
ATTACH;FMTTYPE=image/jpeg:https://kalscheuer.com/wp-content/uploads/2024/02/pdk-online-infoabend.jpeg
END:VEVENT
BEGIN:VEVENT
DTSTART;TZID=Europe/Berlin:20250624T190000
DTEND;TZID=Europe/Berlin:20250624T210000
DTSTAMP:20260424T124213
CREATED:20241212T092804Z
LAST-MODIFIED:20250602T090816Z
UID:10000090-1750791600-1750798800@kalscheuer.com
SUMMARY:Online Infoabend | 24.06. | 19:00
DESCRIPTION:Öffentlich \nDen ZOOM Link finden Sie hier. \nNähere Infos finden Sie hier. \nLernen Sie die Wirtschaftsschule ab der 5. Klasse\, die beiden Berufsfachschulen\, E-Business Management und Hotel- und Tourismusmanagement\, und den Studiengang Tourismusmanagement (B.A.) am Online Infoabend kennen!
URL:https://kalscheuer.com/termin/online-infoabend-24-06/
LOCATION:Beide Standorte
ATTACH;FMTTYPE=image/jpeg:https://kalscheuer.com/wp-content/uploads/2024/02/pdk-online-infoabend.jpeg
END:VEVENT
BEGIN:VEVENT
DTSTART;TZID=Europe/Berlin:20250528T190000
DTEND;TZID=Europe/Berlin:20250528T210000
DTSTAMP:20260424T124213
CREATED:20241212T092705Z
LAST-MODIFIED:20250530T075116Z
UID:10000089-1748458800-1748466000@kalscheuer.com
SUMMARY:Online Infoabend | 28.05. | 19:00
DESCRIPTION:Öffentlich \nDen ZOOM Link finden Sie hier. \nNähere Infos finden Sie hier. \nLernen Sie die Wirtschaftsschule ab der 5. Klasse\, die beiden Berufsfachschulen\, E-Business Management und Hotel- und Tourismusmanagement\, und den Studiengang Tourismusmanagement (B.A.) am Online Infoabend kennen!
URL:https://kalscheuer.com/termin/online-infoabend-28-05/
LOCATION:Beide Standorte
ATTACH;FMTTYPE=image/jpeg:https://kalscheuer.com/wp-content/uploads/2024/02/pdk-online-infoabend.jpeg
END:VEVENT
BEGIN:VEVENT
DTSTART;TZID=Europe/Berlin:20250430T190000
DTEND;TZID=Europe/Berlin:20250430T210000
DTSTAMP:20260424T124213
CREATED:20241212T092602Z
LAST-MODIFIED:20250401T082207Z
UID:10000088-1746039600-1746046800@kalscheuer.com
SUMMARY:Online Infoabend | 30.04. | 19:00
DESCRIPTION:Öffentlich \nDen ZOOM Link finden Sie hier. \nNähere Infos finden Sie hier. \nLernen Sie die Wirtschaftsschule ab der 5. Klasse\, die beiden Berufsfachschulen\, E-Business Management und Hotel- und Tourismusmanagement\, und den Studiengang Tourismusmanagement (B.A.) am Online Infoabend kennen!
URL:https://kalscheuer.com/termin/online-infoabend-30-04/
LOCATION:Beide Standorte
ATTACH;FMTTYPE=image/jpeg:https://kalscheuer.com/wp-content/uploads/2024/02/pdk-online-infoabend.jpeg
END:VEVENT
BEGIN:VEVENT
DTSTART;TZID=Europe/Berlin:20250320T190000
DTEND;TZID=Europe/Berlin:20250320T210000
DTSTAMP:20260424T124213
CREATED:20241212T092451Z
LAST-MODIFIED:20250116T093845Z
UID:10000087-1742497200-1742504400@kalscheuer.com
SUMMARY:Online Infoabend | 20.03. | 19:00
DESCRIPTION:Öffentlich \nDen ZOOM Link finden Sie hier. \nNähere Infos finden Sie hier. \nLernen Sie die Wirtschaftsschule ab der 5. Klasse\, die beiden Berufsfachschulen\, E-Business Management und Hotel- und Tourismusmanagement\, und den Studiengang Tourismusmanagement (B.A.) am Online Infoabend kennen!
URL:https://kalscheuer.com/termin/online-infoabend-20-03/
LOCATION:Beide Standorte
ATTACH;FMTTYPE=image/jpeg:https://kalscheuer.com/wp-content/uploads/2024/02/pdk-online-infoabend.jpeg
END:VEVENT
BEGIN:VEVENT
DTSTART;TZID=Europe/Berlin:20250218T190000
DTEND;TZID=Europe/Berlin:20250218T210000
DTSTAMP:20260424T124213
CREATED:20241212T091818Z
LAST-MODIFIED:20241212T093316Z
UID:10000085-1739905200-1739912400@kalscheuer.com
SUMMARY:Präsenzinfoabend in Rosenheim und Traunstein | 18.02. | 19:00
DESCRIPTION:Öffentlich \nNähere Infos finden Sie hier. \nWir informieren vor Ort in Rosenheim und Traunstein zur Wirtschaftsschule ab der 5. Klasse\, zu den Berufsfachschulen für Hotel- und Tourismusmanagement und für E-Business Management und zum neuen Studiengang Tourismusmanagement (Bachelor of Arts).
URL:https://kalscheuer.com/termin/praesenzinfoabend/
LOCATION:Beide Standorte
ATTACH;FMTTYPE=image/jpeg:https://kalscheuer.com/wp-content/uploads/2024/11/praesenzinfoabend-ts-240113-web.jpg
END:VEVENT
BEGIN:VEVENT
DTSTART;TZID=Europe/Berlin:20250113T190000
DTEND;TZID=Europe/Berlin:20250113T210000
DTSTAMP:20260424T124213
CREATED:20241212T091143Z
LAST-MODIFIED:20241212T091437Z
UID:10000084-1736794800-1736802000@kalscheuer.com
SUMMARY:Online Infoabend | 13.01. | 19:00
DESCRIPTION:Öffentlich \nDen ZOOM Link finden Sie hier. \nNähere Infos finden Sie hier. \nLernen Sie die Wirtschaftsschule ab der 5. Klasse\, die beiden Berufsfachschulen\, E-Business Management und Hotel- und Tourismusmanagement\, und den Studiengang Tourismusmanagement (B.A.) am Online Infoabend kennen!
URL:https://kalscheuer.com/termin/online-infoabend-13-01/
LOCATION:Beide Standorte
ATTACH;FMTTYPE=image/jpeg:https://kalscheuer.com/wp-content/uploads/2024/02/pdk-online-infoabend.jpeg
END:VEVENT
BEGIN:VEVENT
DTSTART;TZID=Europe/Berlin:20240928T190000
DTEND;TZID=Europe/Berlin:20240928T210000
DTSTAMP:20260424T124213
CREATED:20240321T090815Z
LAST-MODIFIED:20240923T092826Z
UID:10000073-1727550000-1727557200@kalscheuer.com
SUMMARY:Online Infoabend | 29.08. | 19:00
DESCRIPTION:Öffentlich \nDen ZOOM Link finden Sie hier. \nNähere Infos finden Sie hier.
URL:https://kalscheuer.com/termin/online-infoabend-29-08/
LOCATION:Beide Standorte
ATTACH;FMTTYPE=image/jpeg:https://kalscheuer.com/wp-content/uploads/2024/02/pdk-online-infoabend.jpeg
END:VEVENT
BEGIN:VEVENT
DTSTART;TZID=Europe/Berlin:20240718T190000
DTEND;TZID=Europe/Berlin:20240718T210000
DTSTAMP:20260424T124213
CREATED:20240321T090355Z
LAST-MODIFIED:20240610T111629Z
UID:10000071-1721329200-1721336400@kalscheuer.com
SUMMARY:Online Infoabend | 18.07. | 19:00
DESCRIPTION:Öffentlich \nDen ZOOM Link finden Sie hier. \nNähere Infos finden Sie hier.
URL:https://kalscheuer.com/termin/online-infoabend-18-07/
LOCATION:Beide Standorte
ATTACH;FMTTYPE=image/jpeg:https://kalscheuer.com/wp-content/uploads/2024/02/pdk-online-infoabend.jpeg
END:VEVENT
BEGIN:VEVENT
DTSTART;TZID=Europe/Berlin:20240619T190000
DTEND;TZID=Europe/Berlin:20240619T210000
DTSTAMP:20260424T124213
CREATED:20240321T090233Z
LAST-MODIFIED:20240516T105045Z
UID:10000070-1718823600-1718830800@kalscheuer.com
SUMMARY:Online Infoabend | 19.06. | 19:00
DESCRIPTION:Öffentlich \nDen ZOOM Link finden Sie hier. \nNähere Infos finden Sie hier.
URL:https://kalscheuer.com/termin/online-infoabend-19-06/
LOCATION:Beide Standorte
ATTACH;FMTTYPE=image/jpeg:https://kalscheuer.com/wp-content/uploads/2024/02/pdk-online-infoabend.jpeg
END:VEVENT
BEGIN:VEVENT
DTSTART;TZID=Europe/Berlin:20240606T080000
DTEND;TZID=Europe/Berlin:20240606T170000
DTSTAMP:20260424T124213
CREATED:20240603T074313Z
LAST-MODIFIED:20240603T074313Z
UID:10000080-1717660800-1717693200@kalscheuer.com
SUMMARY:Prüfung AdA Schein
DESCRIPTION:
URL:https://kalscheuer.com/termin/pruefung-ada-schein/
LOCATION:Beide Standorte
END:VEVENT
BEGIN:VEVENT
DTSTART;TZID=Europe/Berlin:20240514T190000
DTEND;TZID=Europe/Berlin:20240514T210000
DTSTAMP:20260424T124213
CREATED:20240321T090057Z
LAST-MODIFIED:20240425T121946Z
UID:10000069-1715713200-1715720400@kalscheuer.com
SUMMARY:Online Infoabend | 14.05. | 19:00
DESCRIPTION:Öffentlich \nDen ZOOM Link finden Sie hier. \nNähere Infos finden Sie hier.
URL:https://kalscheuer.com/termin/online-infoabend-14-05/
LOCATION:Beide Standorte
ATTACH;FMTTYPE=image/jpeg:https://kalscheuer.com/wp-content/uploads/2024/02/pdk-online-infoabend.jpeg
END:VEVENT
BEGIN:VEVENT
DTSTART;TZID=Europe/Berlin:20240418T190000
DTEND;TZID=Europe/Berlin:20240418T210000
DTSTAMP:20260424T124213
CREATED:20240321T085542Z
LAST-MODIFIED:20240321T085825Z
UID:10000068-1713466800-1713474000@kalscheuer.com
SUMMARY:Online Infoabend | 18.04. | 19:00
DESCRIPTION:Öffentlich \nDen ZOOM Link finden Sie hier. \nNähere Infos finden Sie hier.
URL:https://kalscheuer.com/termin/online-infoabend-18-04/
LOCATION:Beide Standorte
ATTACH;FMTTYPE=image/jpeg:https://kalscheuer.com/wp-content/uploads/2024/02/pdk-online-infoabend.jpeg
END:VEVENT
BEGIN:VEVENT
DTSTART;TZID=Europe/Berlin:20240321T190000
DTEND;TZID=Europe/Berlin:20240321T210000
DTSTAMP:20260424T124213
CREATED:20240223T091911Z
LAST-MODIFIED:20240223T092044Z
UID:10000057-1711047600-1711054800@kalscheuer.com
SUMMARY:Online Infoabend | 21.03. | 19:00
DESCRIPTION:Öffentlich \nDen ZOOM Link finden Sie hier. \nNähere Infos finden Sie hier.
URL:https://kalscheuer.com/termin/online-infoabend-21-03/
LOCATION:Beide Standorte
ATTACH;FMTTYPE=image/jpeg:https://kalscheuer.com/wp-content/uploads/2024/02/pdk-online-infoabend.jpeg
END:VEVENT
BEGIN:VEVENT
DTSTART;VALUE=DATE:20240226
DTEND;VALUE=DATE:20240227
DTSTAMP:20260424T124213
CREATED:20240124T141139Z
LAST-MODIFIED:20240124T141339Z
UID:10000011-1708905600-1708991999@kalscheuer.com
SUMMARY:Prüfung: Themenfestlegung Hausarbeit Übungsunternehmen
DESCRIPTION:Abschlussklassen
URL:https://kalscheuer.com/termin/pruefung-themenfestlegung-hausarbeit-uebungsunternehmen/
LOCATION:Beide Standorte
END:VEVENT
BEGIN:VEVENT
DTSTART;VALUE=DATE:20240223
DTEND;VALUE=DATE:20240224
DTSTAMP:20260424T124213
CREATED:20240124T141139Z
LAST-MODIFIED:20240124T142956Z
UID:10000010-1708646400-1708732799@kalscheuer.com
SUMMARY:Zwischenzeugnisse
DESCRIPTION:Alle Klassen
URL:https://kalscheuer.com/termin/zwischenzeugnisse/
LOCATION:Beide Standorte
ATTACH;FMTTYPE=image/jpeg:https://kalscheuer.com/wp-content/uploads/2024/01/pdk-blogbeitrag-berufsbilderabend-teaser.jpg
END:VEVENT
END:VCALENDAR