BEGIN:VCALENDAR
VERSION:2.0
PRODID:-//Privatschulen Dr. Kalscheuer - ECPv6.15.12.2//NONSGML v1.0//EN
CALSCALE:GREGORIAN
METHOD:PUBLISH
X-WR-CALNAME:Privatschulen Dr. Kalscheuer
X-ORIGINAL-URL:https://kalscheuer.com
X-WR-CALDESC:Veranstaltungen für Privatschulen Dr. Kalscheuer
REFRESH-INTERVAL;VALUE=DURATION:PT1H
X-Robots-Tag:noindex
X-PUBLISHED-TTL:PT1H
BEGIN:VTIMEZONE
TZID:Europe/Berlin
BEGIN:DAYLIGHT
TZOFFSETFROM:+0100
TZOFFSETTO:+0200
TZNAME:CEST
DTSTART:20250330T010000
END:DAYLIGHT
BEGIN:STANDARD
TZOFFSETFROM:+0200
TZOFFSETTO:+0100
TZNAME:CET
DTSTART:20251026T010000
END:STANDARD
BEGIN:DAYLIGHT
TZOFFSETFROM:+0100
TZOFFSETTO:+0200
TZNAME:CEST
DTSTART:20260329T010000
END:DAYLIGHT
BEGIN:STANDARD
TZOFFSETFROM:+0200
TZOFFSETTO:+0100
TZNAME:CET
DTSTART:20261025T010000
END:STANDARD
BEGIN:DAYLIGHT
TZOFFSETFROM:+0100
TZOFFSETTO:+0200
TZNAME:CEST
DTSTART:20270328T010000
END:DAYLIGHT
BEGIN:STANDARD
TZOFFSETFROM:+0200
TZOFFSETTO:+0100
TZNAME:CET
DTSTART:20271031T010000
END:STANDARD
END:VTIMEZONE
BEGIN:VEVENT
DTSTART;TZID=Europe/Berlin:20260205T093000
DTEND;TZID=Europe/Berlin:20260205T143000
DTSTAMP:20260421T234434
CREATED:20260122T120334Z
LAST-MODIFIED:20260122T120503Z
UID:10000119-1770283800-1770301800@kalscheuer.com
SUMMARY:4. Ausbildungsmesse "Lehre? Karriere!" | 05.02. | 09:30-14:30
DESCRIPTION:Öffentlich \nNähere Infos finden Sie hier. \nWir informieren persönlich vor Ort auf der 4. Ausbildungsmese „Lehre? Karriere!“ der Mittelschule Traunreut zu den Berufsfachschulen für Hotel- und Tourismusmanagement und für E-Business Management und zum neuen Studiengang Tourismusmanagement (Bachelor of Arts). \nWir freuen uns auf alle interessierten Schülerinnen und Schüler!
URL:https://kalscheuer.com/termin/4-ausbildungsmesse-lehre-karriere/
LOCATION:83301 Traunreut\, Pestalozzistraße 12\, Traunreut\, 83301\, Germany
ATTACH;FMTTYPE=image/jpeg:https://kalscheuer.com/wp-content/uploads/2026/01/lehre-karriere-2026-header.jpg
END:VEVENT
END:VCALENDAR