BEGIN:VCALENDAR
VERSION:2.0
PRODID:-//Privatschulen Dr. Kalscheuer - ECPv6.15.12.2//NONSGML v1.0//EN
CALSCALE:GREGORIAN
METHOD:PUBLISH
X-WR-CALNAME:Privatschulen Dr. Kalscheuer
X-ORIGINAL-URL:https://kalscheuer.com
X-WR-CALDESC:Veranstaltungen für Privatschulen Dr. Kalscheuer
REFRESH-INTERVAL;VALUE=DURATION:PT1H
X-Robots-Tag:noindex
X-PUBLISHED-TTL:PT1H
BEGIN:VTIMEZONE
TZID:Europe/Berlin
BEGIN:DAYLIGHT
TZOFFSETFROM:+0100
TZOFFSETTO:+0200
TZNAME:CEST
DTSTART:20250330T010000
END:DAYLIGHT
BEGIN:STANDARD
TZOFFSETFROM:+0200
TZOFFSETTO:+0100
TZNAME:CET
DTSTART:20251026T010000
END:STANDARD
BEGIN:DAYLIGHT
TZOFFSETFROM:+0100
TZOFFSETTO:+0200
TZNAME:CEST
DTSTART:20260329T010000
END:DAYLIGHT
BEGIN:STANDARD
TZOFFSETFROM:+0200
TZOFFSETTO:+0100
TZNAME:CET
DTSTART:20261025T010000
END:STANDARD
BEGIN:DAYLIGHT
TZOFFSETFROM:+0100
TZOFFSETTO:+0200
TZNAME:CEST
DTSTART:20270328T010000
END:DAYLIGHT
BEGIN:STANDARD
TZOFFSETFROM:+0200
TZOFFSETTO:+0100
TZNAME:CET
DTSTART:20271031T010000
END:STANDARD
END:VTIMEZONE
BEGIN:VEVENT
DTSTART;TZID=Europe/Berlin:20260423T090000
DTEND;TZID=Europe/Berlin:20260423T130000
DTSTAMP:20260420T092855
CREATED:20260327T083733Z
LAST-MODIFIED:20260327T083733Z
UID:10000134-1776934800-1776949200@kalscheuer.com
SUMMARY:Sei am Boys'Day 2026 dabei!
DESCRIPTION:Teilnahme nur mit Anmeldung \nNähere Infos findest Du hier. \nWerde für einen Tag Event- und Tourismusprofi! \nWie plane ich ein cooles Event? Wie arbeitet eigentlich ein Hotel oder ein Reiseunternehmen? \nDas findest du alles beim Boys’Day an der Berufsfachschule für Hotel- und Tourismusmanagement am 23. April 2026 von 09:00 bis 13:00 Uhr in Traunstein heraus! \n\nBlicke hinter die Kulissen eines Hotel- und Tourismusbetriebs.\nMix Dir zur Entspannung im Übungsrestaurant ein leckeres\, alkoholfreies Getränk.\nLass Dich inspirieren\, von unseren Erlebnissen aus der Ausbildung in der Karibik.\nGestalte mit KI Deine eigene Social-Media-Werbeanzeige für ein Reise!\n\nBei uns lernst Du\, wie man Hotels\, Reisen oder Events organisiert\, Gäste betreut und eine Tourismusregion vermarktet. \nUnd das Beste: Du bekommts neben dieser touristischen und kaufmännischen Ausbildung gleichzeitig Dein Fachabitur! \nDu kannst bei uns in Traunstein neben der Ausbildung (oder danach) sogar Tourismusmanagement (B.A.) studieren! \n 
URL:https://kalscheuer.com/termin/boysday-2026/
LOCATION:Standort Traunstein\, Weckerlestr. 17\, Traunstein\, 83278
ATTACH;FMTTYPE=image/jpeg:https://kalscheuer.com/wp-content/uploads/2026/03/bd-2026-header.jpg
END:VEVENT
BEGIN:VEVENT
DTSTART;TZID=Europe/Berlin:20260423T090000
DTEND;TZID=Europe/Berlin:20260423T130000
DTSTAMP:20260420T092855
CREATED:20260327T084049Z
LAST-MODIFIED:20260327T084049Z
UID:10000135-1776934800-1776949200@kalscheuer.com
SUMMARY:Sei am Girls'Day 2026 dabei!
DESCRIPTION:Teilnahme nur mit Anmeldung \nNähere Infos findest Du hier. \nWie funktioniert ein Online-Shop?\nUnd wie macht man coole KI-Bilder? \nDas findest Du bei uns am 23. April 2026 von 09:00 bis 13:00 Uhr in Traunstein heraus! \nBei unserer kaufmännischen Ausbildung an der Berufsfachschule dreht sich alles um E-Commerce\, Webdesign\, Social Media und Digitalisierung – und das Beste: Dein Fachabi bekommst Du gleich mit dazu! \nAm Girls’Day kannst Du selbst aktiv werden: \n\nSchau hinter die Kulissen eines Online-Shops\,\ngestalte Deine eigene Homepage\,\nerzeuge KI-Bilder\,\nund entwirf eine Social-Media-Werbeanzeige.\n\n 
URL:https://kalscheuer.com/termin/girlsday-2026/
LOCATION:Standort Traunstein\, Weckerlestr. 17\, Traunstein\, 83278
ATTACH;FMTTYPE=image/jpeg:https://kalscheuer.com/wp-content/uploads/2026/03/gd-2026-header.jpg
END:VEVENT
BEGIN:VEVENT
DTSTART;TZID=Europe/Berlin:20260424T080000
DTEND;TZID=Europe/Berlin:20260424T153000
DTSTAMP:20260420T092856
CREATED:20260226T093320Z
LAST-MODIFIED:20260227T120055Z
UID:10000125-1777017600-1777044600@kalscheuer.com
SUMMARY:AUSBILDUNGSROAS 2026
DESCRIPTION:Öffentlich \nNähere Infos finden Sie hier. \nWir informieren persönlich vor Ort auf der AUSBILDUNGSROAS 2026 im & um das Schulzentrum in Trostberg zu den Berufsfachschulen für E-Business Management (Rosenheim und Traunstein) und für Hotel- und Tourismusmanagement (nur Traunstein) und zum neuen Studiengang Tourismusmanagement (Bachelor of Arts\, nur Traunstein). \nAUSBILDUNGSROAS 2026\nim & um das Schulzentrum in Trostberg\n24.04.2026 | 8:00-15:30 Uhr
URL:https://kalscheuer.com/termin/ausbildungsroas-2026/
LOCATION:Schulzentrum Trostberg\, Jahnstraße 11\, 83308 Trostberg\, Germany
ATTACH;FMTTYPE=image/jpeg:https://kalscheuer.com/wp-content/uploads/2025/05/ausbildungsroas-25-header02.jpg
END:VEVENT
BEGIN:VEVENT
DTSTART;TZID=Europe/Berlin:20260425T090000
DTEND;TZID=Europe/Berlin:20260425T150000
DTSTAMP:20260420T092856
CREATED:20260227T115617Z
LAST-MODIFIED:20260327T092947Z
UID:10000126-1777107600-1777129200@kalscheuer.com
SUMMARY:Fit für deine Zukunft
DESCRIPTION:Öffentlich \nNähere Infos finden Sie hier. \nWir informieren persönlich vor Ort auf der Ausbildungsmese „Fit für deine Zukunft“ in der Rosenheimer Gabor Halle zu den Berufsfachschulen für E-Business Management (Rosenheim und Traunstein) und für Hotel- und Tourismusmanagement (nur Traunstein) und zum neuen Studiengang Tourismusmanagement (Bachelor of Arts\, nur Traunstein).
URL:https://kalscheuer.com/termin/fit-fuer-deine-zukunft-2026/
LOCATION:Gabor Halle\, Ebersberger Str. 32A\, Rosenheim\, 83022\, Germany
ATTACH;FMTTYPE=image/jpeg:https://kalscheuer.com/wp-content/uploads/2025/04/ffdz-header.jpg
END:VEVENT
BEGIN:VEVENT
DTSTART;TZID=Europe/Berlin:20260506T190000
DTEND;TZID=Europe/Berlin:20260506T210000
DTSTAMP:20260420T092856
CREATED:20260206T084517Z
LAST-MODIFIED:20260206T084543Z
UID:10000121-1778094000-1778101200@kalscheuer.com
SUMMARY:Online-Sprechstunde | 06.05. | 19:00 | Traunstein
DESCRIPTION:In unserer Online-Sprechstunde haben neue Schüler\, Auszubildende und ihre Eltern die Möglichkeit\, Fragen zum organisatorischen Ablauf an unseren Schulen zu stellen. Außerdem beantworten wir gerne allgemeine Fragen zu unseren drei Schulen sowie zu unseren Studienangeboten. \nEinen ausführlichen Einblick in unsere Schulen erhalten Sie bei unseren Informationsabenden oder am Tag der offenen Tür. \nDen ZOOM Link finden Sie hier. \nNähere Infos finden Sie hier. \nÖffentlich
URL:https://kalscheuer.com/termin/online-sprechstunde-06-05/
LOCATION:Standort Traunstein\, Weckerlestr. 17\, Traunstein\, 83278
ATTACH;FMTTYPE=image/jpeg:https://kalscheuer.com/wp-content/uploads/2026/02/online-sprechstunde-23-02.jpg
END:VEVENT
BEGIN:VEVENT
DTSTART;TZID=Europe/Berlin:20260611T190000
DTEND;TZID=Europe/Berlin:20260611T210000
DTSTAMP:20260420T092856
CREATED:20260206T085027Z
LAST-MODIFIED:20260206T085027Z
UID:10000124-1781204400-1781211600@kalscheuer.com
SUMMARY:Online Infoabend | 11.06. | 19:00 | beide Standorte
DESCRIPTION:Lernen Sie die Wirtschaftsschule ab der 5. Klasse\, die beiden Berufsfachschulen\, E-Business Management und Hotel- und Tourismusmanagement\, und den Studiengang Tourismusmanagement (B.A.) am Online Infoabend kennen! \nDen ZOOM Link finden Sie hier. \nNähere Infos finden Sie hier. \nÖffentlich
URL:https://kalscheuer.com/termin/online-infoabend-11-06/
LOCATION:Beide Standorte
ATTACH;FMTTYPE=image/jpeg:https://kalscheuer.com/wp-content/uploads/2024/02/pdk-online-infoabend.jpeg
END:VEVENT
BEGIN:VEVENT
DTSTART;TZID=Europe/Berlin:20260707T190000
DTEND;TZID=Europe/Berlin:20260707T210000
DTSTAMP:20260420T092856
CREATED:20260206T084705Z
LAST-MODIFIED:20260206T084705Z
UID:10000122-1783450800-1783458000@kalscheuer.com
SUMMARY:Online-Sprechstunde | 07.07. | 19:00 | Traunstein
DESCRIPTION:In unserer Online-Sprechstunde haben neue Schüler\, Auszubildende und ihre Eltern die Möglichkeit\, Fragen zum organisatorischen Ablauf an unseren Schulen zu stellen. Außerdem beantworten wir gerne allgemeine Fragen zu unseren drei Schulen sowie zu unseren Studienangeboten. \nEinen ausführlichen Einblick in unsere Schulen erhalten Sie bei unseren Informationsabenden oder am Tag der offenen Tür. \nDen ZOOM Link finden Sie hier. \nNähere Infos finden Sie hier. \nÖffentlich
URL:https://kalscheuer.com/termin/online-sprechstunde-07-07/
LOCATION:Standort Traunstein\, Weckerlestr. 17\, Traunstein\, 83278
ATTACH;FMTTYPE=image/jpeg:https://kalscheuer.com/wp-content/uploads/2026/02/online-sprechstunde-23-02.jpg
END:VEVENT
END:VCALENDAR